BEGIN:VCALENDAR
VERSION:2.0
PRODID:-//Girls with Grit - ECPv6.15.20//NONSGML v1.0//EN
CALSCALE:GREGORIAN
METHOD:PUBLISH
X-WR-CALNAME:Girls with Grit
X-ORIGINAL-URL:https://eoiwrestling.com/GirlswithGrit
X-WR-CALDESC:Events for Girls with Grit
REFRESH-INTERVAL;VALUE=DURATION:PT1H
X-Robots-Tag:noindex
X-PUBLISHED-TTL:PT1H
BEGIN:VTIMEZONE
TZID:UTC
BEGIN:STANDARD
TZOFFSETFROM:+0000
TZOFFSETTO:+0000
TZNAME:UTC
DTSTART:20230101T000000
END:STANDARD
END:VTIMEZONE
BEGIN:VEVENT
DTSTART;TZID=UTC:20241117T110000
DTEND;TZID=UTC:20241117T150000
DTSTAMP:20260423T191309
CREATED:20241031T040428Z
LAST-MODIFIED:20241111T191303Z
UID:235-1731841200-1731855600@eoiwrestling.com
SUMMARY:Strike for Strength! Bowling & Raffle Fundraiser at Waun-a-Bowl
DESCRIPTION:Don’t miss out—spots are filling up fast! To reserve your spot for this exciting day of bowling and fundraising\, please call 608.849.5931 or email waunabowl@gmail.com. Time is running out\, so make sure to secure your place and join us in supporting the GWG Blue Team. Your participation makes a real difference for our youth wrestling program! \nJoin us for an action-packed day of bowling\, raffles\, and fundraising\, all to support the GWG Blue Team! This family-friendly event includes chances to win fantastic prizes\, score awesome merchandise\, and enjoy a day of fun for a cause. Catch the Packers vs. Bears game on-screen\, grab a drink\, and try your luck in the 50/50 and local meat raffles. Every dollar raised will help cover travel expenses for Kylie’s team\, as they compete in tournaments across the country each month. A huge thanks to Kylie Nachreiner for making this event possible—come roll with us and make a difference for our youth wrestlers!
URL:https://eoiwrestling.com/GirlswithGrit/event/waun-a-bowl/
LOCATION:Waun-a-Bowl\, 301 S Century Ave\, Waunakee\, Wisconsin
CATEGORIES:Fundraiser
ORGANIZER;CN="Girls With Grit":MAILTO:eric@eoiwrestling.com
END:VEVENT
END:VCALENDAR